BEGIN:VCALENDAR
VERSION:2.0
PRODID:-//Volt Europa//Events//EN
CALSCALE:GREGORIAN
METHOD:PUBLISH
BEGIN:VEVENT
UID:economie-vs-geld-1718299800@voltnederland.org
DTSTAMP:20260423T102220Z
DTSTART;TZID=Europe/Amsterdam:20240613T193000
DTEND;TZID=Europe/Amsterdam:20240613T220000
SUMMARY:Politieke avond Enschede - Economie VS Geld
DESCRIPTION:Wat: Volt Enschede Politieke avond  Voor wie:  Volt-leden en 
 iedereen die Volt interessant vindt Wanneer:  13 juni van 19:30 tot 22:00\
 , inloop 19:30\, borrel vanaf 21:00 Waar:  Schumannlaan 13 Onderwerp:  Eco
 nomie VS Geld Algemeen: We willen iedereen die Volt interessant vindt een p
 lek bieden om elkaar te leren kennen\, en te praten over Enschede\, Europa\
 , en politiek. Het idee is vooral om je eigen horizon te verbreden\, kennis
  te maken met nieuwe/gezellige mensen en in een ontspannen\, open en resp
LOCATION:Enschede\, nader te bepalen
URL:https://voltnederland.org/overijssel/agenda/economie-vs-geld
END:VEVENT
END:VCALENDAR
