BEGIN:VCALENDAR
VERSION:2.0
PRODID:-//Volt Europa//Events//EN
CALSCALE:GREGORIAN
METHOD:PUBLISH
BEGIN:VEVENT
UID:deventergemeenteraadvoorbereiding-1727613000@voltnederland.org
DTSTAMP:20260423T102227Z
DTSTART;TZID=Europe/Amsterdam:20240929T143000
DTEND;TZID=Europe/Amsterdam:20240929T170000
SUMMARY:Volt Deventer op weg naar de gemeenteraad
DESCRIPTION:Wat: Volt Deventer op weg naar de gemeenteraad Wie: Volt leden 
 Waar: Deventer\, Spuipad 1\, Huis van de Wijk Wanneer: 29 sept van 14:30 - 
 17:00 Op zondag 29 september gaan we verder werken aan ons plan om Volt in 
 maart 2026 op het stembiljet in Deventer te krijgen. Ben je er ook bij? Op 
 14 juli hebben we ons avontuur afgetrapt met een kennismaking en verkenning
  van wat ons te wachten staat de komende anderhalf jaar. Nu is het tijd om 
 concreet te worden\; hoe gaan we het aanpakken en wie gaat daarbi
LOCATION:Deventer\, Huis van de Wijk
URL:https://voltnederland.org/agenda/deventergemeenteraadvoorbereiding
END:VEVENT
END:VCALENDAR
