BEGIN:VCALENDAR
VERSION:2.0
PRODID:-//Volt Europa//Events//EN
CALSCALE:GREGORIAN
METHOD:PUBLISH
BEGIN:VEVENT
UID:deventer-borrel-mei2025-1747762200@voltnederland.org
DTSTAMP:20260423T102132Z
DTSTART;TZID=Europe/Amsterdam:20250520T193000
DTEND;TZID=Europe/Amsterdam:20250520T220000
SUMMARY:Deventer Borrel
DESCRIPTION:Datum: 20 mei Tijd: Inloop vanaf 19:30 Locatie: Café de 7e Hem
 el\, grote Kerkhof 28 Op dinsdag 20 mei is er weer de maandelijkse borrel v
 an Volt Deventer vanaf 19.30 uur in café De 7e Hemel aan de Grote Kerkhof 
 28. Op de vorige borrels waren al gezellige ontmoetingen tussen nieuwe en o
 ude leden van verschillende regio's. Zoals altijd zijn zowel Voltleden als 
 geïnteresseerde nog-niet-Volt-leden van harte welkom.
LOCATION:Deventer\, café de 7e Hemel
URL:https://voltnederland.org/overijssel/agenda/deventer-borrel-mei2025
END:VEVENT
END:VCALENDAR
