BEGIN:VCALENDAR
VERSION:2.0
PRODID:-//Volt Europa//Events//EN
CALSCALE:GREGORIAN
METHOD:PUBLISH
BEGIN:VEVENT
UID:deventer-borrel-juni2025-1750181400@voltnederland.org
DTSTAMP:20260423T142453Z
DTSTART;TZID=Europe/Amsterdam:20250617T193000
DTEND;TZID=Europe/Amsterdam:20250617T220000
SUMMARY:Deventer Borrel
DESCRIPTION:Datum: 17 juni Tijd: Inloop vanaf 19:30 Locatie: Café de 7e He
 mel\, grote Kerkhof 28 Op dinsdag 17 juni is er weer de maandelijkse borrel
  van Volt Deventer vanaf 19.30 uur in café De 7e Hemel aan de Grote Kerkho
 f 28. Op de vorige borrels waren al gezellige ontmoetingen tussen nieuwe en
  oude leden van verschillende regio's. Zoals altijd zijn zowel Voltleden al
 s geïnteresseerde nog-niet-Volt-leden van harte welkom.
LOCATION:Deventer\, café de 7e Hemel
URL:https://voltnederland.org/overijssel/agenda/deventer-borrel-juni2025
END:VEVENT
END:VCALENDAR
