BEGIN:VCALENDAR
VERSION:2.0
PRODID:-//Volt Europa//Events//EN
CALSCALE:GREGORIAN
METHOD:PUBLISH
BEGIN:VEVENT
UID:deventer-borrel-april2025-1744738200@voltnederland.org
DTSTAMP:20260423T143209Z
DTSTART;TZID=Europe/Amsterdam:20250415T193000
DTEND;TZID=Europe/Amsterdam:20250415T220000
SUMMARY:Deventer borrel
DESCRIPTION:Datum:15 april Tijd: Inloop vanaf 19:30 Locatie: Café de 7e He
 mel\, grote Kerkhof 28 Op dinsdag 15 april is er weer de maandelijkse borre
 l van Volt Deventer vanaf 19.30 uur in café De 7e Hemel aan de Grote Kerkh
 of 28. Op de vorige borrels waren al gezellige ontmoetingen tussen nieuwe e
 n oude leden van verschillende regio's. Zoals altijd zijn zowel Voltleden a
 ls geïnteresseerde nog-niet-Volt-leden van harte welkom.
LOCATION:Deventer\, café de 7e Hemel
URL:https://voltnederland.org/overijssel/agenda/deventer-borrel-april2025
END:VEVENT
END:VCALENDAR
