BEGIN:VCALENDAR
VERSION:2.0
PRODID:-//Volt Europa//Events//EN
CALSCALE:GREGORIAN
METHOD:PUBLISH
BEGIN:VEVENT
UID:demonstratie-voor-open-grenzen-1752912000@voltnederland.org
DTSTAMP:20260423T114134Z
DTSTART;TZID=Europe/Amsterdam:20250719T100000
DTEND;TZID=Europe/Amsterdam:20250719T130000
SUMMARY:Demonstratie voor Open grenzen
DESCRIPTION:Waar 1: Coevorden\, Rotonde bij Rondweg B403 - Europarkallee Wa
 ar 2: Glanerbrug\, gensovergang Gronausestraat/Enschedesestraat Onze Scheng
 en akkoorden staan onder druk. Op steeds meer plaatsen worden grenscontrole
 s weer ingevoerd. Dit kost veel tijd en ergernis en levert niets op.  Op za
 terdag 19 juli vinden er op meerdere plaatsen in Europa demonstraties plaat
 s voor open grenzen. Ook bij Nederlandse grenzen vinden acties plaats: waar
  sluit jij aan? Om te demonstreren voor vrijheid van bewegen\, om
LOCATION:Coevorden & Glanerbrug
URL:https://voltnederland.org/overijssel/agenda/demonstratie-voor-open-gren
 zen
END:VEVENT
END:VCALENDAR
