BEGIN:VCALENDAR
VERSION:2.0
PRODID:-//Volt Europa//Events//EN
CALSCALE:GREGORIAN
METHOD:PUBLISH
BEGIN:VEVENT
UID:de-rol-van-je-gender-themadag-4-1742410800@voltnederland.org
DTSTAMP:20260423T080947Z
DTSTART;TZID=Europe/Amsterdam:20250319T200000
DTEND;TZID=Europe/Amsterdam:20250319T213000
SUMMARY:De rol van je gender - themadag 4
DESCRIPTION:Wie: Iedereen Wat: themabijeenkomsten over de rol van je gender
  Waar: Canceled - geen aanmeldingen Wanneer: 19 maart van 20:00 tot 21:30 M
 annen\, vrouwen of divers\, we zijn allemaal mensen. Maar waarom is de were
 ld zoveel meer ingericht op de man? Tijd voor de rest om ook de vleugels ui
 t te slaan! Samen als mensheid\, met onze krachten gebundeld\, komen we ver
 der. Kom naar onze themabijeenkomsten en praat mee over genderverschillen i
 n de samenleving en de politiek. Dit is de vierde dag in deze reek
LOCATION:Online
URL:https://voltnederland.org/overijssel/agenda/de-rol-van-je-gender-themad
 ag-4
END:VEVENT
END:VCALENDAR
