BEGIN:VCALENDAR
VERSION:2.0
PRODID:-//Volt Europa//Events//EN
CALSCALE:GREGORIAN
METHOD:PUBLISH
BEGIN:VEVENT
UID:congres-overijssel-1732968000@voltnederland.org
DTSTAMP:20260423T102053Z
DTSTART;TZID=Europe/Amsterdam:20241130T130000
DTEND;TZID=Europe/Amsterdam:20241130T170000
SUMMARY:Congres Overijssel
DESCRIPTION:Wie: Volt leden  Wat: Overijssel Congres Waar: Bibliotheek Alme
 lo Wanneer: 30 november van 13:00 tot 17:00 Op 30 november 2024 zijn Volt l
 eden welkom voor het openingscongres van Volt Overijssel. De vergadering za
 l om 13.00 uur beginnen en tot ongeveer 17.00 uur duren. Het belangrijkste 
 punt is\, dat we de afdeling Volt Overijssel opstarten en een waarnemend Ov
 erijssels bestuur kiezen dat alle bestuurstaken gaat uitvoeren.   Vervolg
 ens zal de fractie van Overijssel een update geven over de laatst
LOCATION:Almelo\, bibliotheek
URL:https://voltnederland.org/agenda/congres-overijssel
END:VEVENT
END:VCALENDAR
