BEGIN:VCALENDAR
VERSION:2.0
PRODID:-//Volt Europa//Events//EN
CALSCALE:GREGORIAN
METHOD:PUBLISH
BEGIN:VEVENT
UID:cleanup-ens-1716624000@voltnederland.org
DTSTAMP:20260423T101948Z
DTSTART;TZID=Europe/Amsterdam:20240525T100000
DTEND;TZID=Europe/Amsterdam:20240525T120000
SUMMARY:Cleanup
DESCRIPTION:Lekker lenteweer\, een afvalprikker\, mede Volt leden en een bo
 lderkar met koffie en thee. Wat wil je nog meer? Op 25 mei gaan we Enschede
  weer wat schoner maken. Opgeven kan hier (dan weten we wie er komen en ver
 trekken we niet zonder je). De activiteit is gratis en je zorgt ook nog een
 s voor een schone omgeving! Wij hebben prikstokken mee. Vragen/opmerkingen?
  Stuur een mailtje naar twente@voltnederland.org
LOCATION:Enschede Janninkscomplex/Aldi
URL:https://voltnederland.org/overijssel/agenda/cleanup-ens
END:VEVENT
END:VCALENDAR
