BEGIN:VCALENDAR
VERSION:2.0
PRODID:-//Volt Europa//Events//EN
CALSCALE:GREGORIAN
METHOD:PUBLISH
BEGIN:VEVENT
UID:charge-cheers-1761156000@voltnederland.org
DTSTAMP:20260423T101947Z
DTSTART;TZID=Europe/Amsterdam:20251022T200000
DTEND;TZID=Europe/Amsterdam:20251022T220000
SUMMARY:Charge & Cheers
DESCRIPTION:Wie: Volt leden en geinteresseerden Wat: Borrel Waar: Zwolle\, 
 café Taboe Wanneer: 22 oktober De eerste Charge & Cheers borrel op 1 oktob
 er – georganiseerd door ons nieuwe communitylead Bas de Groot – was een
  succes. Tussen een drankje en een goed gesprek door gingen we in dialoog m
 et onder andere Jolijn van der Linden (#22) en Matthijs Nieuwenhuis (#23). 
 Op 22 oktober borrelen we verder bij Taboe Zwolle met de landelijke verkiez
 ingen als thema. Een perfect moment om elkaar beter te leren kennen\,
LOCATION:Zwolle\, Taboe
URL:https://voltnederland.org/agenda/charge-cheers
END:VEVENT
END:VCALENDAR
