BEGIN:VCALENDAR
VERSION:2.0
PRODID:-//Volt Europa//Events//EN
CALSCALE:GREGORIAN
METHOD:PUBLISH
BEGIN:VEVENT
UID:charge-cheers-jan2026-1769022000@voltnederland.org
DTSTAMP:20260423T211216Z
DTSTART;TZID=Europe/Amsterdam:20260121T200000
DTEND;TZID=Europe/Amsterdam:20260121T220000
SUMMARY:Charge & Cheers
DESCRIPTION:Wie: Volt leden en geinteresseerden Wat: Borrel Waar: Zwolle\, 
 café Taboe Wanneer: Elke derde woensdag van de maand\, 20:00 We gaan weer 
 borrelen bij Taboe in Zwolle. Een perfect moment om elkaar beter te leren k
 ennen\, ideeën uit te wisselen en de politiek te bespreken. Zien we je daa
 r?
LOCATION:Zwolle\, Café Taboe
URL:https://voltnederland.org/overijssel/agenda/charge-cheers-jan2026
END:VEVENT
END:VCALENDAR
