BEGIN:VCALENDAR
VERSION:2.0
PRODID:-//Volt Europa//Events//EN
CALSCALE:GREGORIAN
METHOD:PUBLISH
BEGIN:VEVENT
UID:campagne-18okt2025-1760776200@voltnederland.org
DTSTAMP:20260423T102226Z
DTSTART;TZID=Europe/Amsterdam:20251018T103000
DTEND;TZID=Europe/Amsterdam:20251018T150000
SUMMARY:Campagne
DESCRIPTION:Wie: Iedereen Wat: Campagne Volt Waar: Enschede centrum bij het
  stadhuis\, Ei van Ko Wanneer: 18 oktober van 10:30 - 15:00 De verkiezingen
  komen er weer aan en Volt doet mee. Het is tijd voor iets nieuws. Want als
  je doet wat je deed\, dan krijg je wat je kreeg. Wil jij meer weten over V
 olt\, wie wij zijn\, wat we doen of hoe je kunt helpen? Op 18 oktober zijn 
 wij te vinden in het centrum van Enschede. Kom gezellig langs en laat je in
 spireren.
LOCATION:Enschede\, centrum
URL:https://voltnederland.org/overijssel/agenda/campagne-18okt2025
END:VEVENT
END:VCALENDAR
