BEGIN:VCALENDAR
VERSION:2.0
PRODID:-//Volt Europa//Events//EN
CALSCALE:GREGORIAN
METHOD:PUBLISH
BEGIN:VEVENT
UID:campagne-125okt2025-1761379200@voltnederland.org
DTSTAMP:20260423T113948Z
DTSTART;TZID=Europe/Amsterdam:20251025T100000
DTEND;TZID=Europe/Amsterdam:20251025T150000
SUMMARY:Campagne
DESCRIPTION:Wie: Iedereen Wat: Campagne Volt Waar: Enschede centrum op de o
 ude markt\, Hengelo centrum Enschedese straat Wanneer: 25 oktober van 10:00
  - 15:00 De verkiezingen komen er weer aan en Volt doet mee. Het is tijd vo
 or iets nieuws. Want als je doet wat je deed\, dan krijg je wat je kreeg. W
 il jij meer weten over Volt\, wie wij zijn\, wat we doen of hoe je kunt hel
 pen? Op 25 oktober zijn wij te vinden in het centrum van verschillende Over
 ijsselse steden. Kom gezellig langs en laat je inspireren.
LOCATION:Enschede\, Hengelo\, Almelo\, Deventer\, Zwolle
URL:https://voltnederland.org/overijssel/agenda/campagne-125okt2025
END:VEVENT
END:VCALENDAR
