BEGIN:VCALENDAR
VERSION:2.0
PRODID:-//Volt Europa//Events//EN
CALSCALE:GREGORIAN
METHOD:PUBLISH
BEGIN:VEVENT
UID:brainstorm-beleidsplannen-volt-enschede-1744452000@voltnederland.org
DTSTAMP:20260423T143209Z
DTSTART;TZID=Europe/Amsterdam:20250412T120000
DTEND;TZID=Europe/Amsterdam:20250412T143000
SUMMARY:Brainstorm Beleidsplannen Volt Enschede
DESCRIPTION:Wat: Inhoud verkiezingsprogramma 2026-2030 brainstormsessie Wie
 : Iedereen\, Volt leden en niet Volt leden Waar: Wijkpunt De Heurne Wanneer
 : 12 april 2025 12:00 - 14:30 met uitloop Volt organiseert een brainstormse
 ssie voor iedereen die iets wil bijdragen aan de inhoud van het verkiezings
 programma van Volt Enschede in 2026-2030. Kom langs en laat ons weten wat e
 r wat jou betreft absoluut niet mag missen.
LOCATION:Enschede\, wijkpunt De Heurne\, De Heurne 32
URL:https://voltnederland.org/overijssel/agenda/brainstorm-beleidsplannen-v
 olt-enschede
END:VEVENT
END:VCALENDAR
