BEGIN:VCALENDAR
VERSION:2.0
PRODID:-//Volt Europa//Events//EN
CALSCALE:GREGORIAN
METHOD:PUBLISH
BEGIN:VEVENT
UID:borderball-1719601140@voltnederland.org
DTSTAMP:20260423T113838Z
DTSTART;TZID=Europe/Amsterdam:20240628T205900
DTEND;TZID=Europe/Amsterdam:20240630T130000
SUMMARY:Borderball
DESCRIPTION:De Magie van Borderball: Een Festival van Sport en Cultuur In j
 uni 2024 zal Glanerburg het toneel zijn van een uniek evenement dat de hart
 en van sportliefhebbers en cultuurzoekers sneller doet kloppen: Borderball.
  Het evenement wordt dit jaar georganiseerd door de stichting ATOM voor de 
 Euregio Achterhoek\, Twente\, Osnabrückerland en Münsterland\, en het bel
 ooft een herhaling te worden van het succes van vorig jaar\, toen in Winter
 swijk\, waarbij 80 deelnemers uit Duitsland en Nederland samenkwamen 
LOCATION:Sportpark Bulsterve Glanerbrug
URL:https://voltnederland.org/overijssel/agenda/borderball
END:VEVENT
END:VCALENDAR
