BEGIN:VCALENDAR
VERSION:2.0
PRODID:-//Volt Europa//Events//EN
CALSCALE:GREGORIAN
METHOD:PUBLISH
BEGIN:VEVENT
UID:borderball-2026-1782478800@voltnederland.org
DTSTAMP:20260422T111436Z
DTSTART;TZID=Europe/Amsterdam:20260626T150000
DTEND;TZID=Europe/Amsterdam:20260628T150000
SUMMARY:Borderball 2026
DESCRIPTION:What: Borderball 2026 When: June\, Friday 26th until Sunday 28t
 h Where: Dreiländersee\, Brechter Weg 19\, 48599 Gronau (Westfalen)\, Germ
 any Who: Kids and adults\, everyone interested in sports\, politics or comm
 unity Volt Achterhoek\, Twente\, Osnabrück en Münsterland organiseren in 
 samenwerking met stichting ATOM de inmiddels vierde editie van Borderball! 
 Bij Volt zijn we soms geneigd om te verzanden in discussies\, maar nu is he
 t moment om de theorie in de praktijk te brengen\, elkaar te leren kennen e
LOCATION:Dreiländersee\, Duitsland
URL:https://voltnederland.org/overijssel/agenda/borderball-2026
END:VEVENT
END:VCALENDAR
