BEGIN:VCALENDAR
VERSION:2.0
PRODID:-//Volt Europa//Events//EN
CALSCALE:GREGORIAN
METHOD:PUBLISH
BEGIN:VEVENT
UID:bevrijdingsfestival-1746435600@voltnederland.org
DTSTAMP:20260423T102220Z
DTSTART;TZID=Europe/Amsterdam:20250505T110000
DTEND;TZID=Europe/Amsterdam:20250505T180000
SUMMARY:Bevrijdingsfestival
DESCRIPTION:5 Mei is er\, zoals gebruikelijk\, weer een Overijssels bevrijd
 ingsfestival in Zwolle. En wij zijn er bij! 's ochtends vroeg word de Volt 
 stand opgebouwd\, en dan zijn we er de hele dag. Dus kom vooral even langs.
  We vieren dan met zijn allen onze vrijheid\, en daarbij verspreiden wij de
  boodschap van Europese eenheid\, die deze vrijheid beschermt. Rond 18:00 b
 eginnen we met het afbouwen van de stand\, zodat we 's avonds zelf ook nog 
 even de voetjes van de vloer kunnen gooien. Meer informatie vind je 
LOCATION:Zwolle
URL:https://voltnederland.org/overijssel/agenda/bevrijdingsfestival
END:VEVENT
END:VCALENDAR
