BEGIN:VCALENDAR
VERSION:2.0
PRODID:-//Volt Europa//Events//EN
CALSCALE:GREGORIAN
METHOD:PUBLISH
BEGIN:VEVENT
UID:beleid-gemeenteraadsverkiezingen-1758130200@voltnederland.org
DTSTAMP:20260423T114050Z
DTSTART;TZID=Europe/Amsterdam:20250917T193000
DTEND;TZID=Europe/Amsterdam:20250917T213000
SUMMARY:Beleid gemeenteraadsverkiezingen
DESCRIPTION:Wanneer: 17 sept van 19:30 ~ 21:30 Wie: Volt leden en geïntere
 sseerden Wat: Enschede gemeenteraadsbeleid bespreking Waar: Wijkpunt de Heu
 rne\, Enschede Het schrijfteam van het beleidsprogramma is afgelopen tijd h
 ard bezig geweest. Deze avond gaan we graag met jullie in gesprek over wat 
 onderwerpen waar wat discussie over is. Kom langs\, we horen graag wat je v
 indt.  Meld je aan via de link\, dan kunnen we het concept beleidsprogramma
  met je delen.
LOCATION:Wijkpunt de Heurne
URL:https://voltnederland.org/overijssel/agenda/beleid-gemeenteraadsverkiez
 ingen
END:VEVENT
END:VCALENDAR
