BEGIN:VCALENDAR
VERSION:2.0
PRODID:-//Volt Europa//Events//EN
CALSCALE:GREGORIAN
METHOD:PUBLISH
BEGIN:VEVENT
UID:afvalprikkenhengelo3mei-1746259200@voltnederland.org
DTSTAMP:20260423T114306Z
DTSTART;TZID=Europe/Amsterdam:20250503T100000
DTEND;TZID=Europe/Amsterdam:20250503T120000
SUMMARY:Afvalprikken
DESCRIPTION:Zaterdag 3 mei gaan we weer een rondje afvalprikken\, deze keer
  in Hengelo. We verzamelen om 10:00 bij station Hengelo\, lopen over de fie
 tssnelweg richting enschede\, en sluiten af met onze welverdiende bammetjes
  eten door terug te lopen naar het Prins Bernhardplantsoen. Tot dan!
LOCATION:Hengelo\, station
URL:https://voltnederland.org/overijssel/agenda/afvalprikkenhengelo3mei
END:VEVENT
END:VCALENDAR
