BEGIN:VCALENDAR
VERSION:2.0
PRODID:-//Volt Europa//Events//EN
CALSCALE:GREGORIAN
METHOD:PUBLISH
BEGIN:VEVENT
UID:7e-hemel-borrel-maart-1742322600@voltnederland.org
DTSTAMP:20260423T102101Z
DTSTART;TZID=Europe/Amsterdam:20250318T193000
DTEND;TZID=Europe/Amsterdam:20250318T220000
SUMMARY:7e hemel Borrel
DESCRIPTION:Datum:18 maart Tijd: Inloop vanaf 19:30 Locatie: St. Maxime Op 
 dinsdag 18 maart is er weer de maandelijkse borrel van Volt Deventer vanaf 
 19.30 uur\, dit keer in  café St. Maxime . Op de vorige borrels waren al g
 ezellige ontmoetingen tussen nieuwe en oude leden van verschillende regio's
 . Zoals altijd zijn zowel Voltleden als geïnteresseerde nog-niet-Volt-lede
 n van harte welkom.
LOCATION:Deventer\, St. Maxime
URL:https://voltnederland.org/overijssel/agenda/7e-hemel-borrel-maart
END:VEVENT
END:VCALENDAR
