BEGIN:VCALENDAR
VERSION:2.0
PRODID:-//Volt Europa//Events//EN
CALSCALE:GREGORIAN
METHOD:PUBLISH
BEGIN:VEVENT
UID:7e-hemel-borrel-feb-1739903400@voltnederland.org
DTSTAMP:20260423T102133Z
DTSTART;TZID=Europe/Amsterdam:20250218T193000
DTEND;TZID=Europe/Amsterdam:20250218T220000
SUMMARY:7e hemel Borrel
DESCRIPTION:Datum:18 februari Tijd: Inloop vanaf 19:30 Locatie: Café de 7e
  Hemel\, grote Kerkhof 28 Op dinsdag 18 februari is er weer de maandelijkse
  borrel van Volt Deventer vanaf 19.30 uur in café De 7e Hemel aan de Grote
  Kerkhof 28. Op de vorige borrels waren al gezellige ontmoetingen tussen ni
 euwe en oude leden van verschillende regio's. Zoals altijd zijn zowel Voltl
 eden als geïnteresseerde nog-niet-Volt-leden van harte welkom.
LOCATION:Deventer\, café de 7e Hemel
URL:https://voltnederland.org/overijssel/agenda/7e-hemel-borrel-feb
END:VEVENT
END:VCALENDAR
