BEGIN:VCALENDAR
VERSION:2.0
PRODID:-//Volt Europa//Events//EN
CALSCALE:GREGORIAN
METHOD:PUBLISH
BEGIN:VEVENT
UID:7e-hemel-borrel-202602-1771353000@voltnederland.org
DTSTAMP:20260423T211319Z
DTSTART;TZID=Europe/Amsterdam:20260217T193000
DTEND;TZID=Europe/Amsterdam:20260217T220000
SUMMARY:7e hemel GRV aanloop Borrel
DESCRIPTION:Datum:17 februari Tijd: Inloop vanaf 19:30 Locatie:  Café de 7
 e Hemel\, grote Kerkhof 28 We naderen met rasse schreden de gemeenteraadsve
 rkiezingen. Kom kennismaken met je toekomstige vertegenwoordigers. Praat me
 e over de Volt impact op Deventer en haar dorpen.
LOCATION:Deventer\, café de 7e Hemel
URL:https://voltnederland.org/overijssel/agenda/7e-hemel-borrel-202602
END:VEVENT
END:VCALENDAR
