BEGIN:VCALENDAR
VERSION:2.0
PRODID:-//Volt Europa//Events//EN
CALSCALE:GREGORIAN
METHOD:PUBLISH
BEGIN:VEVENT
UID:volt-vrouwen-alkmaar-meet-up-1749229200@voltnederland.org
DTSTAMP:20260423T143707Z
DTSTART;TZID=Europe/Amsterdam:20250606T190000
DTEND;TZID=Europe/Amsterdam:20250606T190000
SUMMARY:Volt Vrouwen Alkmaar meet-up
DESCRIPTION:Over minder dan een jaar zijn er gemeenteraadsverkiezingen. Vol
 t Alkmaar wil daar graag aan meedoen. En\, daar hebben we de input van vrou
 wen hard voor nodig! Daarom organiseren we op 6 juni een vrijdagmiddagborre
 l voor de Alkmaarse Volt Vrouwen. Kom kennismaken\, luisteren\, vertellen\,
  meedenken\, ideeën delen en ervaringen uitwisselen! Juliet Broersen \, fr
 actievoorzitter Volt Amsterdam\, (maar van oorsprong Alkmaarse) komt vertel
 len over waarom de rol van vrouwen binnen Volt zo belangrijk is en hoe
LOCATION:Je Werkplek\, Geestersingel 48\, Alkmaar
URL:https://voltnederland.org/noord-holland/agenda/volt-vrouwen-alkmaar-mee
 t-up
END:VEVENT
END:VCALENDAR
