BEGIN:VCALENDAR
VERSION:2.0
PRODID:-//Volt Europa//Events//EN
CALSCALE:GREGORIAN
METHOD:PUBLISH
BEGIN:VEVENT
UID:volt-meetup-west-friesland-in-hoorn-1734028200@voltnederland.org
DTSTAMP:20260423T114544Z
DTSTART;TZID=Europe/Amsterdam:20241212T193000
DTEND;TZID=Europe/Amsterdam:20241212T220000
SUMMARY:Volt MeetUp West-Friesland - Hoorn
DESCRIPTION:Op 12 december organiseert Volt een Themabijeenkomst waarin we 
 de rol van Volt binnen de Provinciale Staten toelichten. Beppie van den Bog
 aerde vertelt over de rol van Volt in de Provincie\, bijvoorbeeld in welke 
 commissies Volt actief is. We hebben namelijk niet alleen twee Provinciale 
 Statenleden\, maar ook twee commissieleden\, waaronder Beppie.  Aansluiten
 d is er een discussie over een actueel thema in de provincie\, b.v. windtur
 bines\, provinciale opcenten of klimaatadaptatie. Programma: 19.30 I
LOCATION:De Beiaard\, Kerkplein 3\, 1631 CX Hoorn
URL:https://voltnederland.org/noord-holland/agenda/volt-meetup-west-friesla
 nd-in-hoorn
END:VEVENT
END:VCALENDAR
