BEGIN:VCALENDAR
VERSION:2.0
PRODID:-//Volt Europa//Events//EN
CALSCALE:GREGORIAN
METHOD:PUBLISH
BEGIN:VEVENT
UID:volt-borrel-noord-holland-noord-alkmaar-1744392600@voltnederland.org
DTSTAMP:20260423T115426Z
DTSTART;TZID=Europe/Amsterdam:20250411T193000
DTEND;TZID=Europe/Amsterdam:20250411T223000
SUMMARY:Volt-borrel Noord-Holland Noord / Alkmaar
DESCRIPTION:Kom naar de borrel van Volt Noord-Holland Noord in Alkmaar en m
 aak kennis met mede-Volters in jouw regio. Ook het team van Volt Alkmaar za
 l er zijn. Zij zijn zich op dit moment aan het voorbereiden op deelname aan
  de gemeenteraadsverkiezingen van 2026 en zijn op zoek naar enthousiaste me
 nsen die kunnen meedoen én meedenken. alle input is meer dan welkom. Om de
  tongen los te maken is het eerste drankje op kosten van Volt. Inloop vanaf
  19:30 uur
LOCATION:Stadskaffee Laurens\, Kerkplein 9\, 1811 KL Alkmaar
URL:https://voltnederland.org/noord-holland/agenda/volt-borrel-noord-hollan
 d-noord-alkmaar
END:VEVENT
END:VCALENDAR
