BEGIN:VCALENDAR
VERSION:2.0
PRODID:-//Volt Europa//Events//EN
CALSCALE:GREGORIAN
METHOD:PUBLISH
BEGIN:VEVENT
UID:volt-amsterdam-voque-1750957200@voltnederland.org
DTSTAMP:20260423T102219Z
DTSTART;TZID=Europe/Amsterdam:20250626T190000
DTEND;TZID=Europe/Amsterdam:20250626T230000
SUMMARY:Volt Amsterdam - VOQUE | Juni
DESCRIPTION:Safe the date voor het volgende Volt Quarterly Event (VOQUE)\, 
 het programma wordt later bekend gemaakt. Zet deze datum alvast in je agend
 a.
LOCATION:t.b.a.
URL:https://voltnederland.org/noord-holland/agenda/volt-amsterdam-voque
END:VEVENT
END:VCALENDAR
