BEGIN:VCALENDAR
VERSION:2.0
PRODID:-//Volt Europa//Events//EN
CALSCALE:GREGORIAN
METHOD:PUBLISH
BEGIN:VEVENT
UID:volt-alkmaar-nieuwjaarsborrel-1767983400@voltnederland.org
DTSTAMP:20260424T160525Z
DTSTART;TZID=Europe/Amsterdam:20260109T193000
DTEND;TZID=Europe/Amsterdam:20260109T220000
SUMMARY:Nieuwjaarsborrel & ontmoet de kandidaten Volt Alkmaar
DESCRIPTION:Volt doet in maart 2026 mee aan de gemeenteraadsverkiezingen. K
 om kennismaken met de kandidaten en het team op ons nieuwjaarsevenement. Sa
 men heffen we het glas op een positieve campagne en een beloftevol nieuw Vo
 ltjaar. We kijken ernaar uit je te ontmoeten en neem gerust iemand mee. Stu
 denten\, introducees en andere geïnteresseerden zijn van harte welkom.  We
  zien je graag op vrijdag 9 januari bij Fabrique Unique.  Eva\, Niels\, Mar
 ian\, Neal\, Marja\, Tom\, Michiel\, Jacqueline\, Richard\, Felix\, Piet\, 
LOCATION:Fabrique Unique  Pettemerstraat 35-37\, 1823 CW Alkmaar
URL:https://voltnederland.org/noord-holland/agenda/volt-alkmaar-nieuwjaarsb
 orrel
END:VEVENT
END:VCALENDAR
