BEGIN:VCALENDAR
VERSION:2.0
PRODID:-//Volt Europa//Events//EN
CALSCALE:GREGORIAN
METHOD:PUBLISH
BEGIN:VEVENT
UID:unity-for-the-community-tijdens-amsterdam-pride-1754128800@voltnederlan
 d.org
DTSTAMP:20260423T114247Z
DTSTART;TZID=Europe/Amsterdam:20250802T120000
DTEND;TZID=Europe/Amsterdam:20250802T180000
SUMMARY:‘Unity for the community’ tijdens Amsterdam Pride
DESCRIPTION:Tijdens de Amsterdamse Pride is de botenparade het absolute hoo
 gtepunt. Dit jaar vaart Volt mee met de andere politieke partijen (D66\, CD
 A\, VVD\, PvdA) om te laten zien dat onze steun aan de queer community bela
 ngrijker is dan onze politieke verschillen. Het thema dit jaar is LOVE en w
 ij willen laten zien dat liefde universeel is. Op 2 augustus 2025 gaan wij 
 een feestje bouwen op de Amsterdamse grachten. Kom ons aanmoedigen vanaf de
  kades of vaar mee! Meer informatie volgt later via de kanalen va
LOCATION:Amsterdamse grachten
URL:https://voltnederland.org/noord-holland/agenda/unity-for-the-community-
 tijdens-amsterdam-pride
END:VEVENT
END:VCALENDAR
