BEGIN:VCALENDAR
VERSION:2.0
PRODID:-//Volt Europa//Events//EN
CALSCALE:GREGORIAN
METHOD:PUBLISH
BEGIN:VEVENT
UID:politiek-cafe-voor-vrouwen-1761154200@voltnederland.org
DTSTAMP:20260423T115259Z
DTSTART;TZID=Europe/Amsterdam:20251022T193000
DTEND;TZID=Europe/Amsterdam:20251022T210000
SUMMARY:Politiek café voor vrouwen
DESCRIPTION:Op  woensdagavond 22 oktober\, van 19.30 – 21.00 uur\,  organ
 iseert Volt Nederland een politiek café  voor vrouwen in De Beiaard in Ho
 orn NH. Toegang is vrij\, iedereen betaalt zijn eigen drankje.  Waarom een
  politiek café?  Om samen ontspannen over van alles en nog wat te praten\,
  onder het genot van een drankje. Weet je al op welke partij je gaat stemme
 n\, of heb je nog geen idee? Het maakt niet uit – iedereen is welkom. Waa
 rom voor vrouwen?  Omdat vrouwen minder vaak politiek actief zijn.  Politi
 e
LOCATION:De Beiaard\, Kerkplein 3\, Hoorn-Noord-Holland
URL:https://voltnederland.org/noord-holland/agenda/politiek-cafe-voor-vrouw
 en
END:VEVENT
END:VCALENDAR
