BEGIN:VCALENDAR
VERSION:2.0
PRODID:-//Volt Europa//Events//EN
CALSCALE:GREGORIAN
METHOD:PUBLISH
BEGIN:VEVENT
UID:politiek-cafe-alkmaar-4-1742409000@voltnederland.org
DTSTAMP:20260423T114442Z
DTSTART;TZID=Europe/Amsterdam:20250319T193000
DTEND;TZID=Europe/Amsterdam:20250319T223000
SUMMARY:Thema avond (cultuur) - Alkmaar
DESCRIPTION:Volt Alkmaar organiseert 19 maart a.s. weer een Thema-avond.Â O
 p de agenda staat 'Cultuur in Alkmaar'\, met vragen als:Â  Â·Â Â Â Â Â Â Â 
 Â Â Waarom mag live muziek niet meer op podia in de binnenstad?Â  Â·Â Â Â Â
  Â Â Â Â Â Hoe lossen we het probleem op dat onze culturele voorzieningen d
 ie te klein worden omdat we doorgroeien naar 130.000 inwoners? Â·Â Â Â Â Â 
 Â Â Â Â Waar kunnen we bijvoorbeeld ateliers\, oefenruimtes voor bands en b
 roedplaatsen zo betaalbaar mogelijk maken?Â  Kom langs praat mee en laat uw
  stem horen. We zien er
LOCATION:Fabrique Unique\, Pettemerstraat 35-37\, 1823 CW Alkmaar
URL:https://voltnederland.org/noord-holland/agenda/politiek-cafe-alkmaar-4
END:VEVENT
END:VCALENDAR
