BEGIN:VCALENDAR
VERSION:2.0
PRODID:-//Volt Europa//Events//EN
CALSCALE:GREGORIAN
METHOD:PUBLISH
BEGIN:VEVENT
UID:politiek-cafe-alkmaar-3-1740680820@voltnederland.org
DTSTAMP:20260423T114442Z
DTSTART;TZID=Europe/Amsterdam:20250227T192700
DTEND;TZID=Europe/Amsterdam:20250227T223000
SUMMARY:Thema avond (Impact Economie) - Alkmaar (vervallen)
DESCRIPTION:De thema-avond over Impact Economie kan helaas niet doorgaan. E
 r wordt een nieuwe datum gezocht\, waarschijnlijk in mei. Meer informatie v
 olgt!
LOCATION:Laatmakers\, Laat 27\, Alkmaar
URL:https://voltnederland.org/noord-holland/agenda/politiek-cafe-alkmaar-3
END:VEVENT
END:VCALENDAR
