BEGIN:VCALENDAR
VERSION:2.0
PRODID:-//Volt Europa//Events//EN
CALSCALE:GREGORIAN
METHOD:PUBLISH
BEGIN:VEVENT
UID:politiek-actief-in-haarlem-1732906800@voltnederland.org
DTSTAMP:20260423T114416Z
DTSTART;TZID=Europe/Amsterdam:20241129T200000
DTEND;TZID=Europe/Amsterdam:20241129T220000
SUMMARY:Cursus Politiek Actief - Haarlem
DESCRIPTION:In aanloop naar de gemeenteraadsverkiezingen in 2026 organiseer
 t Volt een cursus Politiek Actief. Deze vindt plaats op vrijdag 29 november
  (inloop 19.30\, start 20.00 uur)\, de locatie: het provinciehuis (adres: 
 Dreef 3\, Haarlem). Op deze avond zullen de aanwezigen door diverse spreker
 s meegenomen worden in wat de gemeentepolitiek inhoudt\, wat het betekent o
 m zelf raadslid te worden en wat er zoal in politiek opzicht speelt in Haar
 lem. Ook is er volop gelegenheid om vragen te stellen.  Volt kwam b
LOCATION:Provinciehuis\, Dreef 3\, Haarlem
URL:https://voltnederland.org/noord-holland/agenda/politiek-actief-in-haarl
 em
END:VEVENT
END:VCALENDAR
