BEGIN:VCALENDAR
VERSION:2.0
PRODID:-//Volt Europa//Events//EN
CALSCALE:GREGORIAN
METHOD:PUBLISH
BEGIN:VEVENT
UID:politiek-actief-in-alkmaar-1-1743703200@voltnederland.org
DTSTAMP:20260423T114538Z
DTSTART;TZID=Europe/Amsterdam:20250403T200000
DTEND;TZID=Europe/Amsterdam:20250403T220000
SUMMARY:Cursus Politiek Actief - Alkmaar
DESCRIPTION:In aanloop naar de gemeenteraadsverkiezingen in 2026 organiseer
 t Volt een cursus Politiek Actief. Deze vindt plaats op donderdag 3 april 
 (inloop 19.30\, start 20.00 uur) bij Je Werkplek. Op deze avond zullen de a
 anwezigen door diverse sprekers meegenomen worden in wat de gemeentepolitie
 k inhoudt\, wat het betekent om zelf raadslid te worden en wat er zoal in p
 olitiek opzicht speelt in Alkmaar. Ook is er volop gelegenheid om vragen te
  stellen.  Zowel leden als niet-leden van Volt zijn van harte wel
LOCATION:Je Werkplek\, Geestersingel 48\, 1815 BB Alkmaar
URL:https://voltnederland.org/noord-holland/agenda/politiek-actief-in-alkma
 ar-1
END:VEVENT
END:VCALENDAR
