BEGIN:VCALENDAR
VERSION:2.0
PRODID:-//Volt Europa//Events//EN
CALSCALE:GREGORIAN
METHOD:PUBLISH
BEGIN:VEVENT
UID:meetup-volt-kennemerland-1734028200@voltnederland.org
DTSTAMP:20260423T114134Z
DTSTART;TZID=Europe/Amsterdam:20241212T193000
DTEND;TZID=Europe/Amsterdam:20241212T223000
SUMMARY:MeetUp Volt Kennemerland - Haarlem
DESCRIPTION:Deze bijeenkomst zal geheel in het teken staan van het voorneme
 n om met Volt mee te gaan doen aan de Gemeenteraadsverkiezingen 2026 in Haa
 rlem. Alle thema's zullen aan bod komen: campagne\, communicatie\, fondswer
 ving en kandidatenlijst. Voor elk thema willen we aparte werkgroepen opzett
 en. Doe je mee?
LOCATION:Ontmoetingscentrum De Schakel\, Pijnboomstraat 17\, Haarlem
URL:https://voltnederland.org/noord-holland/agenda/meetup-volt-kennemerland
END:VEVENT
END:VCALENDAR
