BEGIN:VCALENDAR
VERSION:2.0
PRODID:-//Volt Europa//Events//EN
CALSCALE:GREGORIAN
METHOD:PUBLISH
BEGIN:VEVENT
UID:maandelijkse-borrel-volt-amsterdam-oktober-1760031000@voltnederland.org
DTSTAMP:20260423T114306Z
DTSTART;TZID=Europe/Amsterdam:20251009T193000
DTEND;TZID=Europe/Amsterdam:20251009T230000
SUMMARY:Maandelijkse borrel Volt Amsterdam - oktober
DESCRIPTION:Elke maand organiseert Volt Amsterdam een borrel waar je met an
 deren kunt praten over Volt\, Amsterdam\, de wereld of over iets (heel) and
 ers dat je bezighoudt. Informeel en gezellig\, zonder verplichtingen of ver
 wachtingen. Voor leden van Volt én voor niet-leden/geïnteresseerden: iede
 reen is welkom! De eerstvolgende editie is op  donderdag 9 oktober vanaf 19
 :30 uur.  Zien we jou ook? Heb je vragen over de maandelijkse borrel of and
 ere evenementen? Neem contact op met het Community Team van Volt Am
LOCATION:t.b.a.
URL:https://voltnederland.org/noord-holland/agenda/maandelijkse-borrel-volt
 -amsterdam-oktober
END:VEVENT
END:VCALENDAR
