BEGIN:VCALENDAR
VERSION:2.0
PRODID:-//Volt Europa//Events//EN
CALSCALE:GREGORIAN
METHOD:PUBLISH
BEGIN:VEVENT
UID:ledencongres-volt-noord-holland-1742634000@voltnederland.org
DTSTAMP:20260423T114538Z
DTSTART;TZID=Europe/Amsterdam:20250322T100000
DTEND;TZID=Europe/Amsterdam:20250322T150000
SUMMARY:Ledencongres Volt Noord-Holland
DESCRIPTION:Volt Noord-Holland nodigt je van harte uit voor ons congres op 
 22 maart 2025 in De Schakel in Haarlem.  Wat gaan we doen? We bespreken de 
 hoofdlijnen en de begroting van onze afdeling\, we kiezen nieuwe bestuurs- 
 en commissieleden en we behandelen moties en amendementen en stemmen erover
 . Je krijgt onder andere alle informatie over de gemeenteraadsverkiezingen 
 op 18 maart 2026 en updates over de werkzaamheden van de Volt-fracties van 
 Amsterdam en Noord-Holland.  Dit is de agenda .  De inloop is o
LOCATION:De Schakel\, Pijnboomstraat 17\, 2023 VN Haarlem
URL:https://voltnederland.org/noord-holland/agenda/ledencongres-volt-noord-
 holland
END:VEVENT
END:VCALENDAR
