BEGIN:VCALENDAR
VERSION:2.0
PRODID:-//Volt Europa//Events//EN
CALSCALE:GREGORIAN
METHOD:PUBLISH
BEGIN:VEVENT
UID:ledencongres-volt-noord-holland-november-1764417600@voltnederland.org
DTSTAMP:20260423T224735Z
DTSTART;TZID=Europe/Amsterdam:20251129T130000
DTEND;TZID=Europe/Amsterdam:20251129T170000
SUMMARY:Ledencongres Volt Noord-Holland
DESCRIPTION:Het afdelings congres van Volt Noord-Holland aan zal plaatsvind
 en op zaterdag 29 november 2025 in Castricum.  Op dit congres staan de gem
 eenteraadsverkiezingen van 18 maart 2026 centraal. Volt is voornemens om in
  de gemeenten Haarlem en Alkmaar deel te nemen. Voor een derde gemeente\, H
 ilversum\, zijn de verkiezingen in verband met een gemeentelijke herindelin
 g pas in november 2026.  Tijdens dit congres stemmen we onder andere over:
   de kandidatenlijsten voor Haarlem en Alkmaar\;  de lijsttrekkers 
LOCATION:Huis van Hilde\, Westerplein 6\, 1901 NA Castricum
URL:https://voltnederland.org/noord-holland/agenda/ledencongres-volt-noord-
 holland-november
END:VEVENT
END:VCALENDAR
