BEGIN:VCALENDAR
VERSION:2.0
PRODID:-//Volt Europa//Events//EN
CALSCALE:GREGORIAN
METHOD:PUBLISH
BEGIN:VEVENT
UID:ledenborrel-gooi-vechtstreek-1731607200@voltnederland.org
DTSTAMP:20260423T143900Z
DTSTART;TZID=Europe/Amsterdam:20241114T190000
DTEND;TZID=Europe/Amsterdam:20241114T220000
SUMMARY:Ledenborrel Gooi & Vechtstreek
DESCRIPTION:Volt wil in 2026 meedoen aan de gemeenteraadsverkiezingen in Hi
 lversum. Bij de vorige Ledenborrel hebben we de gemeenteraad in vogelvlucht
  doorgenomen en stilgestaan bij de mijlpalen die we tegenkomen tot aan de v
 erkiezingen in maart 2026.  Bij deze Ledenborrel komt Jasmijn Miete aan he
 t woord. Jasmijn is de co-voorzitter van het Noord-Hollands Voltbestuur\, e
 n ze was Gemeenteraads griffier. Zij weet als geen ander hoe een Gemeentera
 ad werkt en wat van een Gemeenteraadslid wordt verwacht. Daarnaa
LOCATION:Santbergen\, Studio1\, Noorderweg 2-4\, Hilversum
URL:https://voltnederland.org/noord-holland/agenda/ledenborrel-gooi-vechtst
 reek
END:VEVENT
END:VCALENDAR
