BEGIN:VCALENDAR
VERSION:2.0
PRODID:-//Volt Europa//Events//EN
CALSCALE:GREGORIAN
METHOD:PUBLISH
BEGIN:VEVENT
UID:ledenborrel-gooi-en-vechtstreek-1740587400@voltnederland.org
DTSTAMP:20260423T114414Z
DTSTART;TZID=Europe/Amsterdam:20250226T173000
DTEND;TZID=Europe/Amsterdam:20250226T220000
SUMMARY:Voltborrel Gooi- en Vechtstreek
DESCRIPTION:De afgelopen paar maanden heeft Volt Gooi en Vechtstreek er 25 
 nieuwe leden bijgekregen. Een goede reden voor een persoonlijke kennismakin
 g. Komt allen en neem een vriend(in)/kennis mee die nog te overtuigen is om
  zich ook bij Volt aan te sluiten. Wanneer: woensdag 26 februari 2025 Waar:
   Knus\, Spieghelstraat 9\, Bussum Hoe laat: 17.30 uur Aanmelden via  mar
 tine.vos@volteuropa.org .
LOCATION:Knus\, Spiegelstraat 9\, Bussum
URL:https://voltnederland.org/noord-holland/agenda/ledenborrel-gooi-en-vech
 tstreek
END:VEVENT
END:VCALENDAR
