BEGIN:VCALENDAR
VERSION:2.0
PRODID:-//Volt Europa//Events//EN
CALSCALE:GREGORIAN
METHOD:PUBLISH
BEGIN:VEVENT
UID:kwartaal-even-voque-maart-1741888800@voltnederland.org
DTSTAMP:20260423T114247Z
DTSTART;TZID=Europe/Amsterdam:20250313T190000
DTEND;TZID=Europe/Amsterdam:20250313T230000
SUMMARY:Kwartaal event VOQUE - Amsterdam
DESCRIPTION:Blik terug op de verkiezingen in Duitsland en kijken vooruit na
 ar progressieve ontwikkelingen in Amsterdam en Den Haag. Samen met één va
 n de Amsterdamse fractieleden. En\, met kleine slag om de arm\, ook met Lau
 rens Dassen! Aanmelden Vul je  dit formulier  in als je erbij bent? Dan hou
 den we een plekje voor je gereserveerd! 
LOCATION:Café Belcampo\, Hannie Dankbaarpassage 10 (in Tramremise de Halle
 n)
URL:https://voltnederland.org/noord-holland/agenda/kwartaal-even-voque-maar
 t
END:VEVENT
END:VCALENDAR
