BEGIN:VCALENDAR
VERSION:2.0
PRODID:-//Volt Europa//Events//EN
CALSCALE:GREGORIAN
METHOD:PUBLISH
BEGIN:VEVENT
UID:jongeren-verdienen-meer-actie-1733216400@voltnederland.org
DTSTAMP:20260423T115031Z
DTSTART;TZID=Europe/Amsterdam:20241203T100000
DTEND;TZID=Europe/Amsterdam:20241203T190000
SUMMARY:'Jongeren verdienen meer' actie - Amsterdam
DESCRIPTION:Is het niet vreemd dat een 18-jarige en 20-jarige voor hetzelfd
 e werk een ander salaris ontvangen? Volt vindt van wel! Wij staan voor de a
 fschaffing van het jeugdminimumloon en het hanteren van het minimumloon voo
 r alle volwassenen. Om jongeren bewust te maken hiervan organiseert Volt do
 or het hele land acties. Op dinsdag 3 december staan er 2 stands in Amsterd
 am\, waar we met jongeren in gesprek gaan over het minimumloon en hen ervan
  te overtuigen dat jongeren meer verdienen. Hiervoor hebben we 
LOCATION:Amsterdam Zuidoost\, HvA en ROC
URL:https://voltnederland.org/noord-holland/agenda/jongeren-verdienen-meer-
 actie
END:VEVENT
END:VCALENDAR
