BEGIN:VCALENDAR
VERSION:2.0
PRODID:-//Volt Europa//Events//EN
CALSCALE:GREGORIAN
METHOD:PUBLISH
BEGIN:VEVENT
UID:haarlem-sterke-stad-in-europa-1746120600@voltnederland.org
DTSTAMP:20260423T114306Z
DTSTART;TZID=Europe/Amsterdam:20250501T193000
DTEND;TZID=Europe/Amsterdam:20250501T220000
SUMMARY:Haarlem\, sterke stad in Europa
DESCRIPTION:Een bijeenkomst die je Europa-hart sneller doet kloppen Hoe kan
  Haarlem\, met haar rijke traditie\, de ontwikkeling van de regio en daarme
 e van Europa ondersteunen? En hoe kan Europa op haar beurt\, steden als Haa
 rlem ondersteunen in duurzame groei\, mobiliteit en innovatie? Op die vrage
 n proberen we op  1 mei a.s.  tijdens de bijeenkomst van Volt Haarlem een a
 ntwoord te krijgen. Programma: Reinier van Lanschot \, EU-parlementslid en 
 oprichter van Volt Nederland\, gaat in op recente Europese ontwikkel
LOCATION:Hello I’m local\, Spaarnwouderstraat 74\, 2011 AE Haarlem
URL:https://voltnederland.org/agenda/haarlem-sterke-stad-in-europa
END:VEVENT
END:VCALENDAR
