BEGIN:VCALENDAR
VERSION:2.0
PRODID:-//Volt Europa//Events//EN
CALSCALE:GREGORIAN
METHOD:PUBLISH
BEGIN:VEVENT
UID:haarlem-nieuwjaarsborrel-1768417200@voltnederland.org
DTSTAMP:20260424T031244Z
DTSTART;TZID=Europe/Amsterdam:20260114T200000
DTEND;TZID=Europe/Amsterdam:20260114T220000
SUMMARY:Noodpakketten in deze geopolitieke winter
DESCRIPTION:IElke tweede woensdag van de maand  Café Europa  in Café du T
 héâtre.  Ontmoet de kandidaten\, praat mee over de plannen en wensen\, vo
 el de warmte van Volt. Want de geopolitieke winter is kil en voor sommige m
 ensen extra koud. Volt-kandidaten willen noodpakketten uitdelen aan wie dat
  niet zelf kunnen betalen.  Goed plan? Help ons dit idee vorm te geven tijd
 ens Café Europa op 14 januari.  Deel je ideeën met ons.
LOCATION:Café du Théâtre\, Smedestraat 16\, Haarlem
URL:https://voltnederland.org/noord-holland/agenda/haarlem-nieuwjaarsborrel
END:VEVENT
END:VCALENDAR
