BEGIN:VCALENDAR
VERSION:2.0
PRODID:-//Volt Europa//Events//EN
CALSCALE:GREGORIAN
METHOD:PUBLISH
BEGIN:VEVENT
UID:feminist-march-1741435200@voltnederland.org
DTSTAMP:20260423T102226Z
DTSTART;TZID=Europe/Amsterdam:20250308T130000
DTEND;TZID=Europe/Amsterdam:20250308T170000
SUMMARY:Feminist March
DESCRIPTION:Loop jij op Internationale Vrouwendag mee met de Feminist March
 ? Volt Amsterdam loopt samen met Tweede Kamerlid Marieke Koekkoek mee in di
 t protest. We verzamelen op de Dam en lopen samen met andere organisaties\,
  (politieke) partijen en supporters naar het Museumplein. Na afloop praten 
 we na voor wie wil met een drankje in een café in de buurt. Trek je paarse
  trui aan en neem iemand mee! Tijd: verzamelen om 13 uur. Vertrek rond 13:5
 0 Later aanhaken? Neem deel aan de  appgroep  en volg de live lo
LOCATION:De Dam\, Amsterdam
URL:https://voltnederland.org/noord-holland/agenda/feminist-march
END:VEVENT
END:VCALENDAR
