BEGIN:VCALENDAR
VERSION:2.0
PRODID:-//Volt Europa//Events//EN
CALSCALE:GREGORIAN
METHOD:PUBLISH
BEGIN:VEVENT
UID:doe-mee-met-onze-clean-up-actie-1736589600@voltnederland.org
DTSTAMP:20260423T114340Z
DTSTART;TZID=Europe/Amsterdam:20250111T110000
DTEND;TZID=Europe/Amsterdam:20250111T130000
SUMMARY:Doe mee met onze Clean-Up Actie! 🌍 - Amsterdam
DESCRIPTION:Op 11 januari organiseert Volt Amsterdam weer een clean-up acti
 e in Amsterdam. We gaan met een groep enthousiaste Volters de straat op om 
 deze een stukje schoner te maken. In januari staat de eerste op de planning
  van onze clean-ups die elk kwartaal terug zullen komen. Wanneer? Zaterdag 
 11 januari 11:00 uur Samen maken we een verschil voor een duurzame toekomst
 ! Kom langs\, ontmoet mede-Volters\, en help mee om Amsterdam schoon te mak
 en. Iedereen is welkom\, dus breng gerust vrienden of familie mee
LOCATION:n.t.b.
URL:https://voltnederland.org/noord-holland/agenda/doe-mee-met-onze-clean-u
 p-actie
END:VEVENT
END:VCALENDAR
