BEGIN:VCALENDAR
VERSION:2.0
PRODID:-//Volt Europa//Events//EN
CALSCALE:GREGORIAN
METHOD:PUBLISH
BEGIN:VEVENT
UID:debatavond-ruimtelijke-inrichting-gooi-en-vechtstreek-1742927400@voltne
 derland.org
DTSTAMP:20260423T114543Z
DTSTART;TZID=Europe/Amsterdam:20250325T193000
DTEND;TZID=Europe/Amsterdam:20250325T223000
SUMMARY:Debatavond 'Ruimtelijke inrichting' - Gooi- en Vechtstreek
DESCRIPTION:Na een vruchtbare aftrap in januari nodigen we je graag uit voo
 r de volgende lokale Ledenbijeenkomst. Die vindt plaats op  dinsdagavond 2
 5 maart \,vanaf 19.30 uur.   Deze keer op het programma:  ruimtelijke in
 richting Gooi en Vechtstreek.  Spreker is  Maarten Kool \, voorzitter van
  het landelijke Volt beleidsteam op dit onderwerp. Nederland staat voor vee
 l grote problemen\, zoals de wooncrisis en de stikstofcrisis en de slechte 
 kwaliteit van het oppervlaktewater. Om over de dreiging van de stijgend
LOCATION:Noorderweg 2\, Hilversum
URL:https://voltnederland.org/noord-holland/agenda/debatavond-ruimtelijke-i
 nrichting-gooi-en-vechtstreek
END:VEVENT
END:VCALENDAR
