BEGIN:VCALENDAR
VERSION:2.0
PRODID:-//Volt Europa//Events//EN
CALSCALE:GREGORIAN
METHOD:PUBLISH
BEGIN:VEVENT
UID:congres-volt-nederland-1731139200@voltnederland.org
DTSTAMP:20260423T023334Z
DTSTART;TZID=Europe/Amsterdam:20241109T090000
DTEND;TZID=Europe/Amsterdam:20241109T170000
SUMMARY:Congres Volt Nederland
DESCRIPTION:Op 9 november is het weer zover: een nieuw Volt Nederland-congr
 es! We nodigen je van harte uit voor het aankomende landelijke congres op 9
  november in de Domstad (Koningsbergerstraat 9) in Utrecht. Tijdens dit con
 gres bespreken we de hoofdlijnen van beleid en kiezen we nieuwe bestuurs- e
 n commissieleden. Alle informatie over het congres is te vinden op  deze  
 pagina.   Heb je ideeën voor de agenda\, wil je zelf een deelsessie (brea
 koutsessie) organiseren of zou jij het congres eens willen moderer
LOCATION:Domstad\, Koningsbergerstraat 9\, Utrecht
URL:https://voltnederland.org/zuid-holland/agenda/congres-volt-nederland
END:VEVENT
END:VCALENDAR
