BEGIN:VCALENDAR
VERSION:2.0
PRODID:-//Volt Europa//Events//EN
CALSCALE:GREGORIAN
METHOD:PUBLISH
BEGIN:VEVENT
UID:9-mei-europadag-1778328000@voltnederland.org
DTSTAMP:20260423T023434Z
DTSTART;TZID=Europe/Amsterdam:20260509T140000
DTEND;TZID=Europe/Amsterdam:20260509T210000
SUMMARY:Vier Europadag op 9 mei in Hilversum
DESCRIPTION:Op 9 mei 2025 was de eerste kleinschalige viering van Europadag
  op de Kerkbrink in Hilversum. Dit jaar wordt Europadag grootser gevierd me
 t een gevarieerd programma voor jong en oud. Op  zaterdag 9 mei 2026  zulle
 n rond het Raadhuis vanaf 14.00 uur vele festiviteiten plaatsvinden. Denk h
 ierbij aan live muziek\, interactieve workshops en informatiestands over de
  Europese Unie. Ook worden er Europese films vertoond\, worden er twee mini
 -symposia georganiseerd over Europese Media thema’s en zullen er
LOCATION:Dudokpark 1\,  Hilversum (bij het Raadhuis)
URL:https://voltnederland.org/noord-holland/agenda/9-mei-europadag
END:VEVENT
END:VCALENDAR
