BEGIN:VCALENDAR
VERSION:2.0
PRODID:-//Volt Europa//Events//EN
CALSCALE:GREGORIAN
METHOD:PUBLISH
BEGIN:VEVENT
UID:19-september-politiek-cafe-noord-holland-noord-1726768800@voltnederland
 .org
DTSTAMP:20260424T031733Z
DTSTART;TZID=Europe/Amsterdam:20240919T200000
DTEND;TZID=Europe/Amsterdam:20240919T223000
SUMMARY:Politiek Café Alkmaar
DESCRIPTION:De voor ons zo succesvol verlopen Europese verkiezingen liggen 
 nog maar net achter ons of aan de horizon doemen de gemeenteraadsverkiezing
 en van maart 2026 alweer op. Tijdens de vorige verkiezingen deed Volt mee i
 n tien Nederlandse gemeenten en dat heeft ons in al die gemeenten één of 
 meer raadsleden opgeleverd. Dat succes willen we in Noord-Holland proberen 
 uit te bouwen. Samen met jullie willen we onderzoeken of er genoeg ambitie 
 en draagvlak is om een campagne op te zetten voor de gemeente Al
LOCATION:JE Werkplek\, Geestersingel 48\, 1815 BB Alkmaar
URL:https://voltnederland.org/noord-holland/agenda/19-september-politiek-ca
 fe-noord-holland-noord
END:VEVENT
END:VCALENDAR
