BEGIN:VCALENDAR
VERSION:2.0
PRODID:-//Volt Europa//Events//EN
CALSCALE:GREGORIAN
METHOD:PUBLISH
BEGIN:VEVENT
UID:18-september-ledenborrel-gooi-vechtstreek-1726678800@voltnederland.org
DTSTAMP:20260423T114441Z
DTSTART;TZID=Europe/Amsterdam:20240918T190000
DTEND;TZID=Europe/Amsterdam:20240918T220000
SUMMARY:Ledenborrel Gooi & Vechtstreek
DESCRIPTION:De gemeenteraadsverkiezingen zijn in 2026. Dit lijkt nog ver\, 
 maar dit is de eerste keer dat we in Hilversum (en wellicht andere gemeente
 n in de Gooi- & Vechtstreek) meedoen. We maken graag gebruik van jouw denkk
 racht\, want hoe vertalen we Volt principes naar de gemeentepolitiek en dan
  specifiek die van Hilversum? Leuk als je erbij wil en kunt zijn\, neem ger
 ust een introducé mee (Volt lid of geïnteresseerden). Graag vóór 1 sept
 ember doorgeven of jij/jullie aanwezig bent/zijn door  dit Google-for
LOCATION:Hilversum
URL:https://voltnederland.org/noord-holland/agenda/18-september-ledenborrel
 -gooi-vechtstreek
END:VEVENT
END:VCALENDAR
